BEGIN:VCALENDAR
VERSION:2.0
PRODID:-//hacksw/handcal//NONSGML v1.0//EN
BEGIN:VEVENT
SUMMARY:Loto du club
UID:9618e6cb-60cc-4d00-954c-f14287ab63a5
DTSTART:20260328T120000Z
DTEND:20260328T190000Z
LOCATION:Localisation ?? ?????? ??? ??????? ????? ????????-??-???? 69140 Rillieux-la-Pape
CATEGORIES:Festif
STATUS:
DESCRIPTION:<p class="_ap3a _aaco _aacu _aacx _aad7 _aade"><span
 style="font-size:18px;">🦈𝐀𝐔𝐕𝐑
 𝐑𝐢𝐥𝐥𝐢𝐞𝐮𝐱 : 𝐋𝐨𝐭𝐨 𝐝𝐮
 𝐜𝐥𝐮𝐛🦈</span><br>
 <br>
 <span
 style="font-size:16px;">🎊Rendez-vous le 𝘀𝗮𝗺𝗲𝗱𝗶
 𝟮𝟴 𝗺𝗮𝗿𝘀 𝗮̀ 𝟭𝟰𝗵 pour le loto annuel du
 club de tennis de table.<br>
 📍Salle polyvalente des Semailles -
 𝟭𝟴 𝗮𝘃𝗲𝗻𝘂𝗲 𝗱𝗲𝘀
 𝗡𝗮𝘁𝗶𝗼𝗻𝘀 𝟲𝟵𝟭𝟰𝟬
 𝗥𝗶𝗹𝗹𝗶𝗲𝘂𝘅-𝗹𝗮-𝗣𝗮𝗽𝗲<br>
 <br>
 🔖Reservation
 possible aupres 𝗱'𝗔𝗻𝗻𝗶𝗰𝗸
 𝗠𝗮𝘀𝘀𝗲𝘁<br>
 <br>
 🎁De nombreux lots sont a gagner
 d'une valeur totale de 𝟰𝟬𝟬𝟬€.</span></p>
URL;VALUE=URI:https://www.auvrtt.com/evenements/2026/03/28/loto-du-club-2424575
END:VEVENT
END:VCALENDAR
